BEGIN:VCALENDAR
VERSION:2.0
PRODID:-//Tukios.com/
BEGIN:VEVENT
UID:cd5028e1-768c-4eeb-9a01-b7d8ddcd1164@www.kerryfh.com
DTSTAMP:20260425T002712Z
DTSTART:20260428T200000Z
DTEND:20260429T010000Z
SUMMARY:Visitation
DESCRIPTION:
URL:https://www.kerryfh.com/obituaries/arthur-korsak-jr
LOCATION: 7020 West 127th Street  Palos Heights IL 60463
GEO:41.6611647;-87.7928662
END:VEVENT
END:VCALENDAR