BEGIN:VCALENDAR
VERSION:2.0
PRODID:-//Tukios.com/
BEGIN:VEVENT
UID:21b34ed9-877b-4d50-8867-a04127e7322b@www.kerryfh.com
DTSTAMP:20260425T002539Z
DTSTART:20260429T143000Z
DTEND:20260429T144500Z
SUMMARY:Chapel Prayers
DESCRIPTION:
URL:https://www.kerryfh.com/obituaries/arthur-korsak-jr
LOCATION: 7020 West 127th Street  Palos Heights IL 60463
GEO:41.6611647;-87.7928662
END:VEVENT
END:VCALENDAR