BEGIN:VCALENDAR
VERSION:2.0
PRODID:-//Tukios.com/
BEGIN:VEVENT
UID:74cee7f3-f776-48c9-ab74-3e63188831fc@www.kerryfh.com
DTSTAMP:20260425T001941Z
DTSTART:20260429T150000Z
DTEND:20260429T160000Z
SUMMARY:Mass
DESCRIPTION:
URL:https://www.kerryfh.com/obituaries/arthur-korsak-jr
LOCATION: 7025 W. 126th Street  Palos Heights IL 60463
GEO:41.6622756;-87.7947678
END:VEVENT
END:VCALENDAR