BEGIN:VCALENDAR
VERSION:2.0
PRODID:-//Tukios.com/
BEGIN:VEVENT
UID:7f3170b0-5eae-41c8-9d3d-91bca2e518dc@www.kerryfh.com
DTSTAMP:20260425T002816Z
DTSTART:20260429T173000Z
DTEND:20260429T180000Z
SUMMARY:Interment
DESCRIPTION:Please arrive 15 minutes early to be lined up.
URL:https://www.kerryfh.com/obituaries/arthur-korsak-jr
LOCATION: 20953 West Hoff Road  Elwood IL 60421
GEO:41.3921281;-88.1304732
END:VEVENT
END:VCALENDAR