BEGIN:VCALENDAR
VERSION:2.0
PRODID:-//Tukios.com/
BEGIN:VEVENT
UID:908a1bbb-3453-49c9-99f1-78f67e97328c@www.kerryfh.com
DTSTAMP:20260421T205705Z
DTSTART:20260424T200000Z
DTEND:20260425T010000Z
SUMMARY:Visitation
DESCRIPTION:
URL:https://www.kerryfh.com/obituaries/cathy-schmiedl
LOCATION: 7020 West 127th Street  Palos Heights IL 60463
GEO:41.6611647;-87.7928662
END:VEVENT
END:VCALENDAR