BEGIN:VCALENDAR
VERSION:2.0
PRODID:-//Tukios.com/
BEGIN:VEVENT
UID:084f1e0b-897e-4ff6-bdab-eb957612f6d3@www.kerryfh.com
DTSTAMP:20260421T210339Z
DTSTART:20260425T151500Z
DTEND:20260425T153000Z
SUMMARY:Chapel Prayers
DESCRIPTION:
URL:https://www.kerryfh.com/obituaries/cathy-schmiedl
LOCATION: 7020 West 127th Street  Palos Heights IL 60463
GEO:41.6611647;-87.7928662
END:VEVENT
END:VCALENDAR