BEGIN:VCALENDAR
VERSION:2.0
PRODID:-//Tukios.com/
BEGIN:VEVENT
UID:f5a097f8-c318-4b1c-9806-c0ce3548f2e4@www.kerryfh.com
DTSTAMP:20260421T205947Z
DTSTART:20260425T160000Z
DTEND:20260425T170000Z
SUMMARY:Mass
DESCRIPTION:
URL:https://www.kerryfh.com/obituaries/cathy-schmiedl
LOCATION: 14327 Highland Avenue  Orland Park IL 60462
GEO:41.6293688;-87.8654865
END:VEVENT
END:VCALENDAR