BEGIN:VCALENDAR
VERSION:2.0
PRODID:-//Tukios.com/
BEGIN:VEVENT
UID:831528f3-5c5e-43eb-b048-9cd0ca177391@www.kerryfh.com
DTSTAMP:20260421T205649Z
DTSTART:20260425T173000Z
DTEND:20260425T174500Z
SUMMARY:Interment
DESCRIPTION:
URL:https://www.kerryfh.com/obituaries/cathy-schmiedl
LOCATION: 6001 W 111th St  Alsip IL 60803
GEO:41.68851;-87.776296
END:VEVENT
END:VCALENDAR