BEGIN:VCALENDAR
VERSION:2.0
PRODID:-//Tukios.com/
BEGIN:VEVENT
UID:f1788541-f8c1-4127-8422-c8b3a6bf33ef@www.kerryfh.com
DTSTAMP:20260424T002751Z
DTSTART:20260428T210000Z
DTEND:20260429T000000Z
SUMMARY:Visitation
DESCRIPTION:
URL:https://www.kerryfh.com/obituaries/colleen-schramm
LOCATION: 7020 West 127th Street  Palos Heights IL 60463
GEO:41.6611647;-87.7928662
END:VEVENT
END:VCALENDAR