BEGIN:VCALENDAR
VERSION:2.0
PRODID:-//Tukios.com/
BEGIN:VEVENT
UID:4d52c7de-3a97-4ff8-ae9a-d65977fc63f7@www.kerryfh.com
DTSTAMP:20260424T002803Z
DTSTART:20260429T150000Z
DTEND:20260429T160000Z
SUMMARY:Visitation
DESCRIPTION:
URL:https://www.kerryfh.com/obituaries/colleen-schramm
LOCATION: 7020 West 127th Street  Palos Heights IL 60463
GEO:41.6611647;-87.7928662
END:VEVENT
END:VCALENDAR