BEGIN:VCALENDAR
VERSION:2.0
PRODID:-//Tukios.com/
BEGIN:VEVENT
UID:918707ec-4ea6-47ca-beba-313f49734635@www.kerryfh.com
DTSTAMP:20260424T002855Z
DTSTART:20260429T160000Z
DTEND:20260429T170000Z
SUMMARY:Chapel Service
DESCRIPTION:
URL:https://www.kerryfh.com/obituaries/colleen-schramm
LOCATION: 7020 West 127th Street  Palos Heights IL 60463
GEO:41.6611647;-87.7928662
END:VEVENT
END:VCALENDAR